BEGIN:VCALENDAR
VERSION:2.0
PRODID:-//Old Davie School Museum &amp; Event Venue - ECPv6.15.13//NONSGML v1.0//EN
CALSCALE:GREGORIAN
METHOD:PUBLISH
X-ORIGINAL-URL:https://olddavieschool.org
X-WR-CALDESC:Events for Old Davie School Museum &amp; Event Venue
REFRESH-INTERVAL;VALUE=DURATION:PT1H
X-Robots-Tag:noindex
X-PUBLISHED-TTL:PT1H
BEGIN:VTIMEZONE
TZID:America/New_York
BEGIN:DAYLIGHT
TZOFFSETFROM:-0500
TZOFFSETTO:-0400
TZNAME:EDT
DTSTART:20230312T070000
END:DAYLIGHT
BEGIN:STANDARD
TZOFFSETFROM:-0400
TZOFFSETTO:-0500
TZNAME:EST
DTSTART:20231105T060000
END:STANDARD
BEGIN:DAYLIGHT
TZOFFSETFROM:-0500
TZOFFSETTO:-0400
TZNAME:EDT
DTSTART:20240310T070000
END:DAYLIGHT
BEGIN:STANDARD
TZOFFSETFROM:-0400
TZOFFSETTO:-0500
TZNAME:EST
DTSTART:20241103T060000
END:STANDARD
BEGIN:DAYLIGHT
TZOFFSETFROM:-0500
TZOFFSETTO:-0400
TZNAME:EDT
DTSTART:20250309T070000
END:DAYLIGHT
BEGIN:STANDARD
TZOFFSETFROM:-0400
TZOFFSETTO:-0500
TZNAME:EST
DTSTART:20251102T060000
END:STANDARD
END:VTIMEZONE
BEGIN:VEVENT
DTSTART;TZID=America/New_York:20240126T193000
DTEND;TZID=America/New_York:20240126T223000
DTSTAMP:20260422T215301
CREATED:20220822T140309Z
LAST-MODIFIED:20240211T034914Z
UID:2623-1706297400-1706308200@olddavieschool.org
SUMMARY:Paranormal Investigation
DESCRIPTION:Experience the paranormal with WAR Party Paranormal Investigators and explore the 1918 Davie School and historic campus. \nLimited tickets available for an exclusive experience. \nGeneral Admission: $40 / Members: $35 / Teachers & College Students: $35 (I.D. required at entry) \n  \nPurchase Tickets Here\n  \n 
URL:https://olddavieschool.org/event/odsparanormal/
LOCATION:Old Davie School Museum & Event Venue\, 6650 Griffin Road\, Davie\, FL\, 33314\, United States
ATTACH;FMTTYPE=image/png:https://olddavieschool.org/wp-content/uploads/2022/08/For-Website-Icon.png
END:VEVENT
END:VCALENDAR