BEGIN:VCALENDAR
VERSION:2.0
PRODID:-//Old Davie School Museum &amp; Event Venue - ECPv6.15.13//NONSGML v1.0//EN
CALSCALE:GREGORIAN
METHOD:PUBLISH
X-WR-CALNAME:Old Davie School Museum &amp; Event Venue
X-ORIGINAL-URL:https://olddavieschool.org
X-WR-CALDESC:Events for Old Davie School Museum &amp; Event Venue
REFRESH-INTERVAL;VALUE=DURATION:PT1H
X-Robots-Tag:noindex
X-PUBLISHED-TTL:PT1H
BEGIN:VTIMEZONE
TZID:America/New_York
BEGIN:DAYLIGHT
TZOFFSETFROM:-0500
TZOFFSETTO:-0400
TZNAME:EDT
DTSTART:20240310T070000
END:DAYLIGHT
BEGIN:STANDARD
TZOFFSETFROM:-0400
TZOFFSETTO:-0500
TZNAME:EST
DTSTART:20241103T060000
END:STANDARD
BEGIN:DAYLIGHT
TZOFFSETFROM:-0500
TZOFFSETTO:-0400
TZNAME:EDT
DTSTART:20250309T070000
END:DAYLIGHT
BEGIN:STANDARD
TZOFFSETFROM:-0400
TZOFFSETTO:-0500
TZNAME:EST
DTSTART:20251102T060000
END:STANDARD
BEGIN:DAYLIGHT
TZOFFSETFROM:-0500
TZOFFSETTO:-0400
TZNAME:EDT
DTSTART:20260308T070000
END:DAYLIGHT
BEGIN:STANDARD
TZOFFSETFROM:-0400
TZOFFSETTO:-0500
TZNAME:EST
DTSTART:20261101T060000
END:STANDARD
END:VTIMEZONE
BEGIN:VEVENT
DTSTART;TZID=America/New_York:20251026T110000
DTEND;TZID=America/New_York:20251026T140000
DTSTAMP:20260419T164545
CREATED:20220822T141121Z
LAST-MODIFIED:20251026T123339Z
UID:2632-1761476400-1761487200@olddavieschool.org
SUMMARY:Haunted Hot Rods Car REGISTRATION
DESCRIPTION:Onsite Registration $20. \nLimited spaces available.  \nNo entry after 11am. \n  \n 
URL:https://olddavieschool.org/event/haunted-hot-rods-car-show/
LOCATION:Old Davie School Museum & Event Venue\, 6650 Griffin Road\, Davie\, FL\, 33314\, United States
CATEGORIES:Featured Events
ATTACH;FMTTYPE=image/png:https://olddavieschool.org/wp-content/uploads/2022/08/HHR-Registration-Website-Icon-.png
END:VEVENT
BEGIN:VEVENT
DTSTART;TZID=America/New_York:20251026T110000
DTEND;TZID=America/New_York:20251026T140000
DTSTAMP:20260419T164545
CREATED:20230920T233834Z
LAST-MODIFIED:20251014T183925Z
UID:2918-1761476400-1761487200@olddavieschool.org
SUMMARY:Haunted Hot Rods Family Fun Event
DESCRIPTION:
URL:https://olddavieschool.org/event/haunted-hot-rods-family-fun-event/
LOCATION:Old Davie School Museum & Event Venue\, 6650 Griffin Road\, Davie\, FL\, 33314\, United States
CATEGORIES:Featured Events
ATTACH;FMTTYPE=image/png:https://olddavieschool.org/wp-content/uploads/2023/09/HHR-website-icon.png
END:VEVENT
END:VCALENDAR